BEGIN:VCALENDAR
VERSION:2.0
PRODID:-//eventon.com NONSGML v1.0//EN
BEGIN:VEVENT
UID:69e5adcf3e096
DTSTAMP:20260420T063839
DTSTART:20211120T090000Z
DTEND:20211120T120000Z
TZID:Europe/Brussels
LOCATION:Croc'espace rue de la Station 35  4800 Verviers
SUMMARY:CAFÉ CITOYEN VERVIERS
DESCRIPTION: PUBLICITÉ COMMERCIALE ET SURCONSOMMATION Quels sont nos choix en tant que citoyen-ne ?\nhttps://grappebelgique.org/events/cafe-citoyen-verviers-2/
URL:https://grappebelgique.org/events/cafe-citoyen-verviers-2/
END:VEVENT
END:VCALENDAR